Workbook

Sheet Instruction and Summary
A1: Instructions for recording Continuing Professional Education (CPE) Hours
A2: This logbook is designed to help Public Accountants record and monitor their CPE hours and to demonstrate compliance with the applicable CPE requirements.
A3: If you are newly registered as a Public Accountant, you may use this logbook to track your CPE hours from the date of registration.
A5: 1. Minimum requirements
B6: • | C6: At least 120 CPE hours over a 3-year rolling period
B7: • | C7: At least 90 structured learning hours over a 3-year rolling period, subject to the minimum core expertise requirements in the following categories, depending on whether you fall under (A), (B) or (C):
C8: • | D8: Category 1: Financial and Sustainability Reporting Standards and Pronouncements
C9: • | D9: Category 2: Ethics and Professionalism
C10: • | D10: Category 3: Auditing and Assurance Standards, Pronouncements and Methodology
C11: • | D11: Category 4: Insolvency and Restructuring
C12: • | D12: Category 5: Information Technology
C13: • | D13: Other Relevant Expertise
B14: • | C14: At least 20 hours of structured learning in each calendar year
B16: (A) Public Accountant
B17: At least 60 core expertise hours, including:
B18: • | C18: Category 1: Minimum 18 hours
B19: • | C19: Category 2: Minimum 6 hours
B20: • | C20: Category 3: Minimum 18 hours
B21: • | C21: Category 5: Minimum 9 hours
B23: (B) Public Accountant who is also an Approved Liquidator
B24: At least 60 core expertise hours, including:
B25: • | C25: Category 1: Minimum 18 hours
B26: • | C26: Category 2: Minimum 6 hours
B27: • | C27: Category 3: Minimum 18 hours
B28: • | C28: Category 4: Minimum 9 hours
B29: • | C29: Category 5: Minimum 9 hours
B31: (C) Public Accountant registered only as Judicial Manager and does not perform audit
B32: At least 45 core expertise hours, including:
B33: • | C33: Category 2: Minimum 6 hours
B34: • | C34: Category 4: Minimum 9 hours
B35: • | C35: Category 5: Minimum 9 hours
B36: • | C36: Minimum 30 hours across Categories 1 and 4 combined, of which at least 9 hours must be in Category 4
A38: 2. Structured vs Unstructured CPE
B39: • | C39: Structured (e.g. formal courses, seminars, workshops)
B40: • | C40: Unstructured (e.g. self-study, reading, research activities)
A42: 3. Evidence required
B43: Evidence of completion is required for all structured CPE activities and may include any of the following:
B44: • | C44: Certificate of attendance
B45: • | C45: Official documentation of completion
B46: • | C46: Training records issued by the employer
...

Sheet Structured CPE
A1: =IF(ISBLANK('Instruction and Summary'!E76),"Renewal year is blank. Please enter the renewal year to enable the CPE calculations.",("Summary calculations are based on CPE activities with completion dates between "& 'Instruction and Summary'!E77 & " to " & 'Instruction and Summary'!E78 & ".")) -> Renewal year is blank. Please enter the renewal year to enable the CPE calculations.
A2: Date (DD/MM/YYYY) | B2: Course Provider | C2: Course Title | D2: Category 1: Financial and Sustainability Reporting Standards and Pronouncements | E2: Category 2: Ethics and Professionalism | F2: Category 3: Auditing and Assurance Standards, Pronouncements and Methodology | G2: Category 4: Insolvency and Restructuring | H2: Category 5: Information Technology | I2: Other Relevant Expertise
A121: ⬆ Insert new rows ABOVE this line only
C122: Total: | D122: =SUM(D3:D120) -> 0 | E122: =SUM(E3:E120) -> 0 | F122: =SUM(F3:F120) -> 0 | G122: =SUM(G3:G120) -> 0 | H122: =SUM(H3:H120) -> 0 | I122: =SUM(I3:I120) -> 0

Sheet Unstructured CPE
A1: =IF(ISBLANK('Instruction and Summary'!E76),"Renewal year is blank. Please enter the renewal year to enable the CPE calculations.",("Summary calculations are based on CPE activities with completion dates between "& 'Instruction and Summary'!E77 & " to " & 'Instruction and Summary'!E78 & ".")) -> Renewal year is blank. Please enter the renewal year to enable the CPE calculations.
A2: Date (DD/MM/YYYY) | B2: Description or Title of Course or Activity | C2: Hours
A53: ⬆ Insert new rows ABOVE this line only
C54: =SUM(C3:C53) -> 0
